BEGIN:VCALENDAR
VERSION:2.0
PRODID:-//horsealert.local//NONSGML kigkonsult.se iCalcreator 2.10.5//
CALSCALE:GREGORIAN
X-WR-TIMEZONE:Europe/Dublin
BEGIN:VTIMEZONE
TZID:Etc/GMT-1
BEGIN:STANDARD
DTSTART:20010101T000000
TZOFFSETFROM:+0100
TZOFFSETTO:+0100
TZNAME:GMT +01:00
END:STANDARD
END:VTIMEZONE
BEGIN:VEVENT
UID:20260425T032548CEST-2826V5B5Nc@horsealert.local
DTSTAMP:20260425T010448Z
CATEGORIES:Horse Alerts
DESCRIPTION:Quicksilverslots Get Up To 200 Freeplay Handicap Hurdle
DTSTART:20131112T145000
LOCATION:England
SUMMARY:Horse Racing:Quicksilverslots Get Up To 200 Freeplay Handicap Hurdl
 e
END:VEVENT
END:VCALENDAR
