BEGIN:VCALENDAR
VERSION:2.0
PRODID:-//horsealert.local//NONSGML kigkonsult.se iCalcreator 2.10.5//
CALSCALE:GREGORIAN
X-WR-TIMEZONE:Europe/Dublin
BEGIN:VTIMEZONE
TZID:Etc/GMT-1
BEGIN:STANDARD
DTSTART:20010101T000000
TZOFFSETFROM:+0100
TZOFFSETTO:+0100
TZNAME:GMT +01:00
END:STANDARD
END:VTIMEZONE
BEGIN:VEVENT
UID:20260425T014220CEST-3676kNdI0O@horsealert.local
DTSTAMP:20260424T230420Z
CATEGORIES:Horse Alerts
DESCRIPTION:British Stallion Studs E.B.F. \'National Hunt\' Novices\' Hurdl
 e \(Qualifier\)
DTSTART:20131112T125000
LOCATION:England
SUMMARY:Horse Racing:British Stallion Studs E.B.F. \'National Hunt\' Novice
 s\' Hurdle \(Qualifier\)
END:VEVENT
END:VCALENDAR
