BEGIN:VCALENDAR
VERSION:2.0
PRODID:-//horsealert.local//NONSGML kigkonsult.se iCalcreator 2.10.5//
CALSCALE:GREGORIAN
X-WR-TIMEZONE:Europe/Dublin
BEGIN:VTIMEZONE
TZID:Etc/GMT-1
BEGIN:STANDARD
DTSTART:20010101T000000
TZOFFSETFROM:+0100
TZOFFSETTO:+0100
TZNAME:GMT +01:00
END:STANDARD
END:VTIMEZONE
BEGIN:VEVENT
UID:20260425T032453CEST-2494IlODcW@horsealert.local
DTSTAMP:20260425T010453Z
CATEGORIES:Horse Alerts
DESCRIPTION:Boylesports.com Fon-A-Bet To 1800 44 00 00 Handicap Hurdle \(80
 -109\)
DTSTART:20131110T155500
LOCATION:Eire
SUMMARY:Horse Racing:Boylesports.com Fon-A-Bet To 1800 44 00 00 Handicap Hu
 rdle \(80-109\)
END:VEVENT
END:VCALENDAR
