BEGIN:VCALENDAR
VERSION:2.0
PRODID:-//horsealert.local//NONSGML kigkonsult.se iCalcreator 2.10.5//
CALSCALE:GREGORIAN
X-WR-TIMEZONE:Europe/Dublin
BEGIN:VTIMEZONE
TZID:Etc/GMT-1
BEGIN:STANDARD
DTSTART:20010101T000000
TZOFFSETFROM:+0100
TZOFFSETTO:+0100
TZNAME:GMT +01:00
END:STANDARD
END:VTIMEZONE
BEGIN:VEVENT
UID:20260425T014400CEST-30786p42Il@horsealert.local
DTSTAMP:20260424T230400Z
CATEGORIES:Horse Alerts
DESCRIPTION:Boylesports.com Download Our App Lismullen Hurdle \(Grade 2\)
DTSTART:20131110T135000
LOCATION:Eire
SUMMARY:Horse Racing:Boylesports.com Download Our App Lismullen Hurdle \(Gr
 ade 2\)
END:VEVENT
END:VCALENDAR
