BEGIN:VCALENDAR
VERSION:2.0
PRODID:-//horsealert.local//NONSGML kigkonsult.se iCalcreator 2.10.5//
CALSCALE:GREGORIAN
X-WR-TIMEZONE:Europe/Dublin
BEGIN:VTIMEZONE
TZID:Etc/GMT-1
BEGIN:STANDARD
DTSTART:20010101T000000
TZOFFSETFROM:+0100
TZOFFSETTO:+0100
TZNAME:GMT +01:00
END:STANDARD
END:VTIMEZONE
BEGIN:VEVENT
UID:20260425T045745CEST-4024K5BB36@horsealert.local
DTSTAMP:20260425T020445Z
CATEGORIES:Horse Alerts
DESCRIPTION:Congratulations A. P. McCoy Rising Stars Novices\' Chase \(Grad
 e 2\)
DTSTART:20131109T151500
LOCATION:England
SUMMARY:Horse Racing:Congratulations A. P. McCoy Rising Stars Novices\' Cha
 se \(Grade 2\)
END:VEVENT
END:VCALENDAR
