BEGIN:VCALENDAR
VERSION:2.0
PRODID:-//horsealert.local//NONSGML kigkonsult.se iCalcreator 2.10.5//
CALSCALE:GREGORIAN
X-WR-TIMEZONE:Europe/Dublin
BEGIN:VTIMEZONE
TZID:Etc/GMT-1
BEGIN:STANDARD
DTSTART:20010101T000000
TZOFFSETFROM:+0100
TZOFFSETTO:+0100
TZNAME:GMT +01:00
END:STANDARD
END:VTIMEZONE
BEGIN:VEVENT
UID:20260425T045821CEST-8476d2TTM1@horsealert.local
DTSTAMP:20260425T020421Z
CATEGORIES:Horse Alerts
DESCRIPTION:BDN Construction \'Hands And Heels\' Handicap Hurdle \(Conditio
 nal/Amateur\) \(Sunday 5k Bonus Race\)
DTSTART:20131110T155000
LOCATION:England
SUMMARY:Horse Racing:BDN Construction \'Hands And Heels\' Handicap Hurdle \
 (Conditional/Amateur\) \(Sunday 5k Bonus Race\)
END:VEVENT
END:VCALENDAR
