BEGIN:VCALENDAR
VERSION:2.0
PRODID:-//horsealert.local//NONSGML kigkonsult.se iCalcreator 2.10.5//
CALSCALE:GREGORIAN
X-WR-TIMEZONE:Europe/Dublin
BEGIN:VTIMEZONE
TZID:Etc/GMT-1
BEGIN:STANDARD
DTSTART:20010101T000000
TZOFFSETFROM:+0100
TZOFFSETTO:+0100
TZNAME:GMT +01:00
END:STANDARD
END:VTIMEZONE
BEGIN:VEVENT
UID:20260425T014359CEST-5799PWXRPm@horsealert.local
DTSTAMP:20260424T230459Z
CATEGORIES:Horse Alerts
DESCRIPTION:Potter Group Wales Handicap Hurdle
DTSTART:20131110T143000
LOCATION:Wales
SUMMARY:Horse Racing:Potter Group Wales Handicap Hurdle
END:VEVENT
END:VCALENDAR
