BEGIN:VCALENDAR
VERSION:2.0
PRODID:-//horsealert.local//NONSGML kigkonsult.se iCalcreator 2.10.5//
CALSCALE:GREGORIAN
X-WR-TIMEZONE:Europe/Dublin
BEGIN:VTIMEZONE
TZID:Etc/GMT-1
BEGIN:STANDARD
DTSTART:20010101T000000
TZOFFSETFROM:+0100
TZOFFSETTO:+0100
TZNAME:GMT +01:00
END:STANDARD
END:VTIMEZONE
BEGIN:VEVENT
UID:20260425T032507CEST-4643DU7eCs@horsealert.local
DTSTAMP:20260425T010407Z
CATEGORIES:Horse Alerts
DESCRIPTION:Betfred Cock O\'The North E.B.F. Maiden Stakes \(Div 2\)
DTSTART:20131109T124000
LOCATION:England
SUMMARY:Horse Racing:Betfred Cock O\'The North E.B.F. Maiden Stakes \(Div 2
 \)
END:VEVENT
END:VCALENDAR
