BEGIN:VCALENDAR
VERSION:2.0
PRODID:-//horsealert.local//NONSGML kigkonsult.se iCalcreator 2.10.5//
CALSCALE:GREGORIAN
X-WR-TIMEZONE:Europe/Dublin
BEGIN:VTIMEZONE
TZID:Etc/GMT-1
BEGIN:STANDARD
DTSTART:20010101T000000
TZOFFSETFROM:+0100
TZOFFSETTO:+0100
TZNAME:GMT +01:00
END:STANDARD
END:VTIMEZONE
BEGIN:VEVENT
UID:20260425T014356CEST-5634t7d7zU@horsealert.local
DTSTAMP:20260424T230456Z
CATEGORIES:Horse Alerts
DESCRIPTION:TurfTV Helping Victim Support Scotland Maiden Hurdle
DTSTART:20131108T133000
LOCATION:Scotland
SUMMARY:Horse Racing:TurfTV Helping Victim Support Scotland Maiden Hurdle
END:VEVENT
END:VCALENDAR
