BEGIN:VCALENDAR
VERSION:2.0
PRODID:-//horsealert.local//NONSGML kigkonsult.se iCalcreator 2.10.5//
CALSCALE:GREGORIAN
X-WR-TIMEZONE:Europe/Dublin
BEGIN:VTIMEZONE
TZID:Etc/GMT-1
BEGIN:STANDARD
DTSTART:20010101T000000
TZOFFSETFROM:+0100
TZOFFSETTO:+0100
TZNAME:GMT +01:00
END:STANDARD
END:VTIMEZONE
BEGIN:VEVENT
UID:20260425T014218CEST-2829JSB75V@horsealert.local
DTSTAMP:20260424T230418Z
CATEGORIES:Horse Alerts
DESCRIPTION:Agetur UK Handicap Hurdle
DTSTART:20131107T141000
LOCATION:England
SUMMARY:Horse Racing:Agetur UK Handicap Hurdle
END:VEVENT
END:VCALENDAR
