BEGIN:VCALENDAR
VERSION:2.0
PRODID:-//horsealert.local//NONSGML kigkonsult.se iCalcreator 2.10.5//
CALSCALE:GREGORIAN
X-WR-TIMEZONE:Europe/Dublin
BEGIN:VTIMEZONE
TZID:Etc/GMT-1
BEGIN:STANDARD
DTSTART:20010101T000000
TZOFFSETFROM:+0100
TZOFFSETTO:+0100
TZNAME:GMT +01:00
END:STANDARD
END:VTIMEZONE
BEGIN:VEVENT
UID:20260425T045752CEST-7133uTo62h@horsealert.local
DTSTAMP:20260425T020452Z
CATEGORIES:Horse Alerts
DESCRIPTION:John Meagher Memorial Chase \(Listed\)
DTSTART:20131107T132500
LOCATION:Eire
SUMMARY:Horse Racing:John Meagher Memorial Chase \(Listed\)
END:VEVENT
END:VCALENDAR
