BEGIN:VCALENDAR
VERSION:2.0
PRODID:-//horsealert.local//NONSGML kigkonsult.se iCalcreator 2.10.5//
CALSCALE:GREGORIAN
X-WR-TIMEZONE:Europe/Dublin
BEGIN:VTIMEZONE
TZID:Etc/GMT-1
BEGIN:STANDARD
DTSTART:20010101T000000
TZOFFSETFROM:+0100
TZOFFSETTO:+0100
TZNAME:GMT +01:00
END:STANDARD
END:VTIMEZONE
BEGIN:VEVENT
UID:20260425T032549CEST-1928zDVGBO@horsealert.local
DTSTAMP:20260425T010449Z
CATEGORIES:Horse Alerts
DESCRIPTION:HSBC Agriculture Supports R.A.B.I. Handicap Chase
DTSTART:20131106T155000
LOCATION:Wales
SUMMARY:Horse Racing:HSBC Agriculture Supports R.A.B.I. Handicap Chase
END:VEVENT
END:VCALENDAR
