BEGIN:VCALENDAR
VERSION:2.0
PRODID:-//horsealert.local//NONSGML kigkonsult.se iCalcreator 2.10.5//
CALSCALE:GREGORIAN
X-WR-TIMEZONE:Europe/Dublin
BEGIN:VTIMEZONE
TZID:Etc/GMT-1
BEGIN:STANDARD
DTSTART:20010101T000000
TZOFFSETFROM:+0100
TZOFFSETTO:+0100
TZNAME:GMT +01:00
END:STANDARD
END:VTIMEZONE
BEGIN:VEVENT
UID:20260425T014340CEST-1365M8vUvl@horsealert.local
DTSTAMP:20260424T230440Z
CATEGORIES:Horse Alerts
DESCRIPTION:Thanks & See You Next Season Handicap \(Div 1\)
DTSTART:20131105T130000
LOCATION:England
SUMMARY:Horse Racing:Thanks & See You Next Season Handicap \(Div 1\)
END:VEVENT
END:VCALENDAR
