BEGIN:VCALENDAR
VERSION:2.0
PRODID:-//horsealert.local//NONSGML kigkonsult.se iCalcreator 2.10.5//
CALSCALE:GREGORIAN
X-WR-TIMEZONE:Europe/Dublin
BEGIN:VTIMEZONE
TZID:Etc/GMT-1
BEGIN:STANDARD
DTSTART:20010101T000000
TZOFFSETFROM:+0100
TZOFFSETTO:+0100
TZNAME:GMT +01:00
END:STANDARD
END:VTIMEZONE
BEGIN:VEVENT
UID:20260425T032503CEST-9976fAFeup@horsealert.local
DTSTAMP:20260425T010403Z
CATEGORIES:Horse Alerts
DESCRIPTION:Melbourne Cup Live On At The Races Conditional Jockeys\' Handic
 ap Hurdle
DTSTART:20131104T160500
LOCATION:England
SUMMARY:Horse Racing:Melbourne Cup Live On At The Races Conditional Jockeys
 \' Handicap Hurdle
END:VEVENT
END:VCALENDAR
