BEGIN:VCALENDAR
VERSION:2.0
PRODID:-//horsealert.local//NONSGML kigkonsult.se iCalcreator 2.10.5//
CALSCALE:GREGORIAN
X-WR-TIMEZONE:Europe/Dublin
BEGIN:VTIMEZONE
TZID:Etc/GMT-1
BEGIN:STANDARD
DTSTART:20010101T000000
TZOFFSETFROM:+0100
TZOFFSETTO:+0100
TZNAME:GMT +01:00
END:STANDARD
END:VTIMEZONE
BEGIN:VEVENT
UID:20260425T045749CEST-6119lix5tF@horsealert.local
DTSTAMP:20260425T020449Z
CATEGORIES:Horse Alerts
DESCRIPTION:Paddy Power Shops - Your Best Bet For National Hunt Action Hand
 icap Hurdle \(80-109\)
DTSTART:20131103T155500
LOCATION:Eire
SUMMARY:Horse Racing:Paddy Power Shops - Your Best Bet For National Hunt Ac
 tion Handicap Hurdle \(80-109\)
END:VEVENT
END:VCALENDAR
