BEGIN:VCALENDAR
VERSION:2.0
PRODID:-//horsealert.local//NONSGML kigkonsult.se iCalcreator 2.10.5//
CALSCALE:GREGORIAN
X-WR-TIMEZONE:Europe/Dublin
BEGIN:VTIMEZONE
TZID:Etc/GMT-1
BEGIN:STANDARD
DTSTART:20010101T000000
TZOFFSETFROM:+0100
TZOFFSETTO:+0100
TZNAME:GMT +01:00
END:STANDARD
END:VTIMEZONE
BEGIN:VEVENT
UID:20260425T014408CEST-3952UshZlj@horsealert.local
DTSTAMP:20260424T230408Z
CATEGORIES:Horse Alerts
DESCRIPTION:fasttracktosuccess Finjaan At Gazeley Stud Ben Marshall Stakes 
 \(Listed\)
DTSTART:20131102T153000
LOCATION:England
SUMMARY:Horse Racing:fasttracktosuccess Finjaan At Gazeley Stud Ben Marshal
 l Stakes \(Listed\)
END:VEVENT
END:VCALENDAR
