BEGIN:VCALENDAR
VERSION:2.0
PRODID:-//horsealert.local//NONSGML kigkonsult.se iCalcreator 2.10.5//
CALSCALE:GREGORIAN
X-WR-TIMEZONE:Europe/Dublin
BEGIN:VTIMEZONE
TZID:Etc/GMT-1
BEGIN:STANDARD
DTSTART:20010101T000000
TZOFFSETFROM:+0100
TZOFFSETTO:+0100
TZNAME:GMT +01:00
END:STANDARD
END:VTIMEZONE
BEGIN:VEVENT
UID:20260425T044003CEST-8678a42rTc@horsealert.local
DTSTAMP:20260425T020403Z
CATEGORIES:Horse Alerts
DESCRIPTION:Crowne Plaza Hotel Race & Stay Handicap \(60-80\)
DTSTART:20131101T184000
LOCATION:Eire
SUMMARY:Horse Racing:Crowne Plaza Hotel Race & Stay Handicap \(60-80\)
END:VEVENT
END:VCALENDAR
