BEGIN:VCALENDAR
VERSION:2.0
PRODID:-//horsealert.local//NONSGML kigkonsult.se iCalcreator 2.10.5//
CALSCALE:GREGORIAN
X-WR-TIMEZONE:Europe/Dublin
BEGIN:VTIMEZONE
TZID:Etc/GMT-1
BEGIN:STANDARD
DTSTART:20010101T000000
TZOFFSETFROM:+0100
TZOFFSETTO:+0100
TZNAME:GMT +01:00
END:STANDARD
END:VTIMEZONE
BEGIN:VEVENT
UID:20260425T061246CEST-2240P8HBas@horsealert.local
DTSTAMP:20260425T040446Z
CATEGORIES:Horse Alerts
DESCRIPTION:Stratford-On-Avon Racecourse Racing Excellence \'Hands And Heel
 s\' Selling Hurdle \(Conditional/Amateur\)
DTSTART:20131031T134000
LOCATION:England
SUMMARY:Horse Racing:Stratford-On-Avon Racecourse Racing Excellence \'Hands
  And Heels\' Selling Hurdle \(Conditional/Amateur\)
END:VEVENT
END:VCALENDAR
