BEGIN:VCALENDAR
VERSION:2.0
PRODID:-//horsealert.local//NONSGML kigkonsult.se iCalcreator 2.10.5//
CALSCALE:GREGORIAN
X-WR-TIMEZONE:Europe/Dublin
BEGIN:VTIMEZONE
TZID:Etc/GMT-1
BEGIN:STANDARD
DTSTART:20010101T000000
TZOFFSETFROM:+0100
TZOFFSETTO:+0100
TZNAME:GMT +01:00
END:STANDARD
END:VTIMEZONE
BEGIN:VEVENT
UID:20260425T061250CEST-3678m0V6iw@horsealert.local
DTSTAMP:20260425T040450Z
CATEGORIES:Horse Alerts
DESCRIPTION:Compare Bookmakers At bookmakers.co.uk Novices\' Limited Handic
 ap Chase
DTSTART:20131031T143000
LOCATION:England
SUMMARY:Horse Racing:Compare Bookmakers At bookmakers.co.uk Novices\' Limit
 ed Handicap Chase
END:VEVENT
END:VCALENDAR
