BEGIN:VCALENDAR
VERSION:2.0
PRODID:-//horsealert.local//NONSGML kigkonsult.se iCalcreator 2.10.5//
CALSCALE:GREGORIAN
X-WR-TIMEZONE:Europe/Dublin
BEGIN:VTIMEZONE
TZID:Etc/GMT-1
BEGIN:STANDARD
DTSTART:20010101T000000
TZOFFSETFROM:+0100
TZOFFSETTO:+0100
TZNAME:GMT +01:00
END:STANDARD
END:VTIMEZONE
BEGIN:VEVENT
UID:20260425T061136CEST-2749eb6jgv@horsealert.local
DTSTAMP:20260425T040436Z
CATEGORIES:Horse Alerts
DESCRIPTION:www.swordsecurity.com \(Q.R.\) Race
DTSTART:20131028T150500
LOCATION:Eire
SUMMARY:Horse Racing:www.swordsecurity.com \(Q.R.\) Race
END:VEVENT
END:VCALENDAR
