BEGIN:VCALENDAR
VERSION:2.0
PRODID:-//horsealert.local//NONSGML kigkonsult.se iCalcreator 2.10.5//
CALSCALE:GREGORIAN
X-WR-TIMEZONE:Europe/Dublin
BEGIN:VTIMEZONE
TZID:Etc/GMT-1
BEGIN:STANDARD
DTSTART:20010101T000000
TZOFFSETFROM:+0100
TZOFFSETTO:+0100
TZNAME:GMT +01:00
END:STANDARD
END:VTIMEZONE
BEGIN:VEVENT
UID:20260425T061150CEST-9500UH2jLS@horsealert.local
DTSTAMP:20260425T040450Z
CATEGORIES:Horse Alerts
DESCRIPTION:Malise Nicolson Handicap Chase \(For The Cross Foxes Trophy\)
DTSTART:20131028T152000
LOCATION:Wales
SUMMARY:Horse Racing:Malise Nicolson Handicap Chase \(For The Cross Foxes T
 rophy\)
END:VEVENT
END:VCALENDAR
