BEGIN:VCALENDAR
VERSION:2.0
PRODID:-//horsealert.local//NONSGML kigkonsult.se iCalcreator 2.10.5//
CALSCALE:GREGORIAN
X-WR-TIMEZONE:Europe/Dublin
BEGIN:VTIMEZONE
TZID:Etc/GMT-1
BEGIN:STANDARD
DTSTART:20010101T000000
TZOFFSETFROM:+0100
TZOFFSETTO:+0100
TZNAME:GMT +01:00
END:STANDARD
END:VTIMEZONE
BEGIN:VEVENT
UID:20260425T061233CEST-16642hEc0M@horsealert.local
DTSTAMP:20260425T040433Z
CATEGORIES:Horse Alerts
DESCRIPTION:2013 Ground Staff Award Winners Median Auction Maiden Fillies\'
  Stakes
DTSTART:20131028T140000
LOCATION:England
SUMMARY:Horse Racing:2013 Ground Staff Award Winners Median Auction Maiden 
 Fillies\' Stakes
END:VEVENT
END:VCALENDAR
