BEGIN:VCALENDAR
VERSION:2.0
PRODID:-//horsealert.local//NONSGML kigkonsult.se iCalcreator 2.10.5//
CALSCALE:GREGORIAN
X-WR-TIMEZONE:Europe/Dublin
BEGIN:VTIMEZONE
TZID:Etc/GMT-1
BEGIN:STANDARD
DTSTART:20010101T000000
TZOFFSETFROM:+0100
TZOFFSETTO:+0100
TZNAME:GMT +01:00
END:STANDARD
END:VTIMEZONE
BEGIN:VEVENT
UID:20260425T061248CEST-751037BCEZ@horsealert.local
DTSTAMP:20260425T040448Z
CATEGORIES:Horse Alerts
DESCRIPTION:Join Hot To Trot For 2014 E.B.F. Maiden Stakes
DTSTART:20131025T140000
LOCATION:England
SUMMARY:Horse Racing:Join Hot To Trot For 2014 E.B.F. Maiden Stakes
END:VEVENT
END:VCALENDAR
