BEGIN:VCALENDAR
VERSION:2.0
PRODID:-//horsealert.local//NONSGML kigkonsult.se iCalcreator 2.10.5//
CALSCALE:GREGORIAN
X-WR-TIMEZONE:Europe/Dublin
BEGIN:VTIMEZONE
TZID:Etc/GMT-1
BEGIN:STANDARD
DTSTART:20010101T000000
TZOFFSETFROM:+0100
TZOFFSETTO:+0100
TZNAME:GMT +01:00
END:STANDARD
END:VTIMEZONE
BEGIN:VEVENT
UID:20260425T061248CEST-3473KuP0jG@horsealert.local
DTSTAMP:20260425T040448Z
CATEGORIES:Horse Alerts
DESCRIPTION:pioneerfurniture.co.uk Leisure And Hospitality Manufacturers E.
 B.F. Maiden Fillies\' Stakes \(Str\)
DTSTART:20131025T141000
LOCATION:England
SUMMARY:Horse Racing:pioneerfurniture.co.uk Leisure And Hospitality Manufac
 turers E.B.F. Maiden Fillies\' Stakes \(Str\)
END:VEVENT
END:VCALENDAR
