BEGIN:VCALENDAR
VERSION:2.0
PRODID:-//horsealert.local//NONSGML kigkonsult.se iCalcreator 2.10.5//
CALSCALE:GREGORIAN
X-WR-TIMEZONE:Europe/Dublin
BEGIN:VTIMEZONE
TZID:Etc/GMT-1
BEGIN:STANDARD
DTSTART:20010101T000000
TZOFFSETFROM:+0100
TZOFFSETTO:+0100
TZNAME:GMT +01:00
END:STANDARD
END:VTIMEZONE
BEGIN:VEVENT
UID:20260425T061157CEST-5045B0uj2C@horsealert.local
DTSTAMP:20260425T040457Z
CATEGORIES:Horse Alerts
DESCRIPTION:Maxwell Celebration Conditional Jockeys\' Training Series Handi
 cap Hurdle \(Part Of The Racing Excellence Initiative\)
DTSTART:20131019T174000
LOCATION:Scotland
SUMMARY:Horse Racing:Maxwell Celebration Conditional Jockeys\' Training Ser
 ies Handicap Hurdle \(Part Of The Racing Excellence Initiative\)
END:VEVENT
END:VCALENDAR
