BEGIN:VCALENDAR
VERSION:2.0
PRODID:-//horsealert.local//NONSGML kigkonsult.se iCalcreator 2.10.5//
CALSCALE:GREGORIAN
X-WR-TIMEZONE:Europe/Dublin
BEGIN:VTIMEZONE
TZID:Etc/GMT-1
BEGIN:STANDARD
DTSTART:20010101T000000
TZOFFSETFROM:+0100
TZOFFSETTO:+0100
TZNAME:GMT +01:00
END:STANDARD
END:VTIMEZONE
BEGIN:VEVENT
UID:20260425T061141CEST-0557N6TzGD@horsealert.local
DTSTAMP:20260425T040441Z
CATEGORIES:Horse Alerts
DESCRIPTION:\'Rite Of Passage\' Britain V Ireland Riders Challenge Maiden H
 urdle
DTSTART:20131014T131500
LOCATION:Eire
SUMMARY:Horse Racing:\'Rite Of Passage\' Britain V Ireland Riders Challenge
  Maiden Hurdle
END:VEVENT
END:VCALENDAR
