BEGIN:VCALENDAR
VERSION:2.0
PRODID:-//horsealert.local//NONSGML kigkonsult.se iCalcreator 2.10.5//
CALSCALE:GREGORIAN
X-WR-TIMEZONE:Europe/Dublin
BEGIN:VTIMEZONE
TZID:Etc/GMT-1
BEGIN:STANDARD
DTSTART:20010101T000000
TZOFFSETFROM:+0100
TZOFFSETTO:+0100
TZNAME:GMT +01:00
END:STANDARD
END:VTIMEZONE
BEGIN:VEVENT
UID:20260425T061147CEST-9222VNoK9D@horsealert.local
DTSTAMP:20260425T040447Z
CATEGORIES:Horse Alerts
DESCRIPTION:Bathwick Tyres E.B.F. Stallions Maiden Fillies\' Stakes \(Div 2
 \)
DTSTART:20131014T145000
LOCATION:England
SUMMARY:Horse Racing:Bathwick Tyres E.B.F. Stallions Maiden Fillies\' Stake
 s \(Div 2\)
END:VEVENT
END:VCALENDAR
