BEGIN:VCALENDAR
VERSION:2.0
PRODID:-//horsealert.local//NONSGML kigkonsult.se iCalcreator 2.10.5//
CALSCALE:GREGORIAN
X-WR-TIMEZONE:Europe/Dublin
BEGIN:VTIMEZONE
TZID:Etc/GMT-1
BEGIN:STANDARD
DTSTART:20010101T000000
TZOFFSETFROM:+0100
TZOFFSETTO:+0100
TZNAME:GMT +01:00
END:STANDARD
END:VTIMEZONE
BEGIN:VEVENT
UID:20260425T061145CEST-3928NSNKAC@horsealert.local
DTSTAMP:20260425T040445Z
CATEGORIES:Horse Alerts
DESCRIPTION:Barbe Handicap Hurdle
DTSTART:20131013T163000
LOCATION:France
SUMMARY:Horse Racing:Barbe Handicap Hurdle
END:VEVENT
END:VCALENDAR
