BEGIN:VCALENDAR
VERSION:2.0
PRODID:-//horsealert.local//NONSGML kigkonsult.se iCalcreator 2.10.5//
CALSCALE:GREGORIAN
X-WR-TIMEZONE:Europe/Dublin
BEGIN:VTIMEZONE
TZID:Etc/GMT-1
BEGIN:STANDARD
DTSTART:20010101T000000
TZOFFSETFROM:+0100
TZOFFSETTO:+0100
TZNAME:GMT +01:00
END:STANDARD
END:VTIMEZONE
BEGIN:VEVENT
UID:20260425T130234CEST-1556A8V0wc@horsealert.local
DTSTAMP:20260425T110434Z
CATEGORIES:Horse Alerts
DESCRIPTION:totepool Home Of King Size Pools Handicap
DTSTART:20130929T155500
LOCATION:England
SUMMARY:Horse Racing:totepool Home Of King Size Pools Handicap
END:VEVENT
END:VCALENDAR
