BEGIN:VCALENDAR
VERSION:2.0
PRODID:-//horsealert.local//NONSGML kigkonsult.se iCalcreator 2.10.5//
CALSCALE:GREGORIAN
X-WR-TIMEZONE:Europe/Dublin
BEGIN:VTIMEZONE
TZID:Etc/GMT-1
BEGIN:STANDARD
DTSTART:20010101T000000
TZOFFSETFROM:+0100
TZOFFSETTO:+0100
TZNAME:GMT +01:00
END:STANDARD
END:VTIMEZONE
BEGIN:VEVENT
UID:20260425T130235CEST-9055H88c2w@horsealert.local
DTSTAMP:20260425T110435Z
CATEGORIES:Horse Alerts
DESCRIPTION:Brian And Jason Merrington Memorial Amateur Riders\' Handicap \
 (Div 1\)
DTSTART:20130924T171000
LOCATION:England
SUMMARY:Horse Racing:Brian And Jason Merrington Memorial Amateur Riders\' H
 andicap \(Div 1\)
END:VEVENT
END:VCALENDAR
