BEGIN:VCALENDAR
VERSION:2.0
PRODID:-//horsealert.local//NONSGML kigkonsult.se iCalcreator 2.10.5//
CALSCALE:GREGORIAN
X-WR-TIMEZONE:Europe/Dublin
BEGIN:VTIMEZONE
TZID:Etc/GMT-1
BEGIN:STANDARD
DTSTART:20010101T000000
TZOFFSETFROM:+0100
TZOFFSETTO:+0100
TZNAME:GMT +01:00
END:STANDARD
END:VTIMEZONE
BEGIN:VEVENT
UID:20260425T130231CEST-1609t8EsoE@horsealert.local
DTSTAMP:20260425T110431Z
CATEGORIES:Horse Alerts
DESCRIPTION:eventmasters.co.uk \'It\'s Been Emotional Trenchy\' Handicap \(
 Div 2\)
DTSTART:20130920T194000
LOCATION:England
SUMMARY:Horse Racing:eventmasters.co.uk \'It\'s Been Emotional Trenchy\' Ha
 ndicap \(Div 2\)
END:VEVENT
END:VCALENDAR
