BEGIN:VCALENDAR
VERSION:2.0
PRODID:-//horsealert.local//NONSGML kigkonsult.se iCalcreator 2.10.5//
CALSCALE:GREGORIAN
X-WR-TIMEZONE:Europe/Dublin
BEGIN:VTIMEZONE
TZID:Etc/GMT-1
BEGIN:STANDARD
DTSTART:20010101T000000
TZOFFSETFROM:+0100
TZOFFSETTO:+0100
TZNAME:GMT +01:00
END:STANDARD
END:VTIMEZONE
BEGIN:VEVENT
UID:20260425T130239CEST-6240h9ESTu@horsealert.local
DTSTAMP:20260425T110439Z
CATEGORIES:Horse Alerts
DESCRIPTION:Hillhouse Quarry Group Supporting Ayrshire Hospice Handicap
DTSTART:20130919T161000
LOCATION:Scotland
SUMMARY:Horse Racing:Hillhouse Quarry Group Supporting Ayrshire Hospice Han
 dicap
END:VEVENT
END:VCALENDAR
