BEGIN:VCALENDAR
VERSION:2.0
PRODID:-//horsealert.local//NONSGML kigkonsult.se iCalcreator 2.10.5//
CALSCALE:GREGORIAN
X-WR-TIMEZONE:Europe/Dublin
BEGIN:VTIMEZONE
TZID:Etc/GMT-1
BEGIN:STANDARD
DTSTART:20010101T000000
TZOFFSETFROM:+0100
TZOFFSETTO:+0100
TZNAME:GMT +01:00
END:STANDARD
END:VTIMEZONE
BEGIN:VEVENT
UID:20260425T130238CEST-8966AVU6Ik@horsealert.local
DTSTAMP:20260425T110438Z
CATEGORIES:Horse Alerts
DESCRIPTION:Danny Wright Memorial Fillies\' Handicap \(For The Challenge Tr
 ophy\)
DTSTART:20130918T144000
LOCATION:England
SUMMARY:Horse Racing:Danny Wright Memorial Fillies\' Handicap \(For The Cha
 llenge Trophy\)
END:VEVENT
END:VCALENDAR
