BEGIN:VCALENDAR
VERSION:2.0
PRODID:-//horsealert.local//NONSGML kigkonsult.se iCalcreator 2.10.5//
CALSCALE:GREGORIAN
X-WR-TIMEZONE:Europe/Dublin
BEGIN:VTIMEZONE
TZID:Etc/GMT-1
BEGIN:STANDARD
DTSTART:20010101T000000
TZOFFSETFROM:+0100
TZOFFSETTO:+0100
TZNAME:GMT +01:00
END:STANDARD
END:VTIMEZONE
BEGIN:VEVENT
UID:20260425T130234CEST-71375pbIuO@horsealert.local
DTSTAMP:20260425T110434Z
CATEGORIES:Horse Alerts
DESCRIPTION:Winners Are Welcome At Betdaq Handicap \(Jockey Club Grassroots
  Sprint Series Qualifier\) \(Div 1\)
DTSTART:20130918T204500
LOCATION:England
SUMMARY:Horse Racing:Winners Are Welcome At Betdaq Handicap \(Jockey Club G
 rassroots Sprint Series Qualifier\) \(Div 1\)
END:VEVENT
END:VCALENDAR
