BEGIN:VCALENDAR
VERSION:2.0
PRODID:-//horsealert.local//NONSGML kigkonsult.se iCalcreator 2.10.5//
CALSCALE:GREGORIAN
X-WR-TIMEZONE:Europe/Dublin
BEGIN:VTIMEZONE
TZID:Etc/GMT-1
BEGIN:STANDARD
DTSTART:20010101T000000
TZOFFSETFROM:+0100
TZOFFSETTO:+0100
TZNAME:GMT +01:00
END:STANDARD
END:VTIMEZONE
BEGIN:VEVENT
UID:20260425T130255CEST-4012XVhvjv@horsealert.local
DTSTAMP:20260425T110455Z
CATEGORIES:Horse Alerts
DESCRIPTION:Listowel Races Supporters Club Lartigue Hurdle \(Grade C Handic
 ap\)
DTSTART:20130917T174500
LOCATION:Eire
SUMMARY:Horse Racing:Listowel Races Supporters Club Lartigue Hurdle \(Grade
  C Handicap\)
END:VEVENT
END:VCALENDAR
