BEGIN:VCALENDAR
VERSION:2.0
PRODID:-//horsealert.local//NONSGML kigkonsult.se iCalcreator 2.10.5//
CALSCALE:GREGORIAN
X-WR-TIMEZONE:Europe/Dublin
BEGIN:VTIMEZONE
TZID:Etc/GMT-1
BEGIN:STANDARD
DTSTART:20010101T000000
TZOFFSETFROM:+0100
TZOFFSETTO:+0100
TZNAME:GMT +01:00
END:STANDARD
END:VTIMEZONE
BEGIN:VEVENT
UID:20260425T130231CEST-5337mdu8RG@horsealert.local
DTSTAMP:20260425T110431Z
CATEGORIES:Horse Alerts
DESCRIPTION:OLBG Park Stakes \(Group 2\)
DTSTART:20130914T151500
LOCATION:England
SUMMARY:Horse Racing:OLBG Park Stakes \(Group 2\)
END:VEVENT
END:VCALENDAR
