BEGIN:VCALENDAR
VERSION:2.0
PRODID:-//horsealert.local//NONSGML kigkonsult.se iCalcreator 2.10.5//
CALSCALE:GREGORIAN
X-WR-TIMEZONE:Europe/Dublin
BEGIN:VTIMEZONE
TZID:Etc/GMT-1
BEGIN:STANDARD
DTSTART:20010101T000000
TZOFFSETFROM:+0100
TZOFFSETTO:+0100
TZNAME:GMT +01:00
END:STANDARD
END:VTIMEZONE
BEGIN:VEVENT
UID:20260425T123859CEST-19273v3tFH@horsealert.local
DTSTAMP:20260425T100459Z
CATEGORIES:Horse Alerts
DESCRIPTION:Golden Square Shopping Centre Chester Stakes \(Listed Handicap\
 )
DTSTART:20130831T153000
LOCATION:England
SUMMARY:Horse Racing:Golden Square Shopping Centre Chester Stakes \(Listed 
 Handicap\)
END:VEVENT
END:VCALENDAR
