BEGIN:VCALENDAR
VERSION:2.0
PRODID:-//horsealert.local//NONSGML kigkonsult.se iCalcreator 2.10.5//
CALSCALE:GREGORIAN
X-WR-TIMEZONE:Europe/Dublin
BEGIN:VTIMEZONE
TZID:Etc/GMT-1
BEGIN:STANDARD
DTSTART:20010101T000000
TZOFFSETFROM:+0100
TZOFFSETTO:+0100
TZNAME:GMT +01:00
END:STANDARD
END:VTIMEZONE
BEGIN:VEVENT
UID:20260425T124130CEST-3793Mo0Ls0@horsealert.local
DTSTAMP:20260425T100430Z
CATEGORIES:Horse Alerts
DESCRIPTION:Taggarts Nissan \'Hands And Heels\' Apprentice Series Handicap 
 \(Round Four Of The Hamilton Park Apprentice Series\)
DTSTART:20130829T171500
LOCATION:Scotland
SUMMARY:Horse Racing:Taggarts Nissan \'Hands And Heels\' Apprentice Series 
 Handicap \(Round Four Of The Hamilton Park Apprentice Series\)
END:VEVENT
END:VCALENDAR
