BEGIN:VCALENDAR
VERSION:2.0
PRODID:-//horsealert.local//NONSGML kigkonsult.se iCalcreator 2.10.5//
CALSCALE:GREGORIAN
X-WR-TIMEZONE:Europe/Dublin
BEGIN:VTIMEZONE
TZID:Etc/GMT-1
BEGIN:STANDARD
DTSTART:20010101T000000
TZOFFSETFROM:+0100
TZOFFSETTO:+0100
TZNAME:GMT +01:00
END:STANDARD
END:VTIMEZONE
BEGIN:VEVENT
UID:20260425T123952CEST-7224afITFr@horsealert.local
DTSTAMP:20260425T100452Z
CATEGORIES:Horse Alerts
DESCRIPTION:Prestige Scotland Handicap \(Qualifier For The 15000 Betfair Sc
 ottish Stayers\' Series Final\)
DTSTART:20130829T164500
LOCATION:Scotland
SUMMARY:Horse Racing:Prestige Scotland Handicap \(Qualifier For The 15000 B
 etfair Scottish Stayers\' Series Final\)
END:VEVENT
END:VCALENDAR
