BEGIN:VCALENDAR
VERSION:2.0
PRODID:-//horsealert.local//NONSGML kigkonsult.se iCalcreator 2.10.5//
CALSCALE:GREGORIAN
X-WR-TIMEZONE:Europe/Dublin
BEGIN:VTIMEZONE
TZID:Etc/GMT-1
BEGIN:STANDARD
DTSTART:20010101T000000
TZOFFSETFROM:+0100
TZOFFSETTO:+0100
TZNAME:GMT +01:00
END:STANDARD
END:VTIMEZONE
BEGIN:VEVENT
UID:20260425T123900CEST-6496xXRRK5@horsealert.local
DTSTAMP:20260425T100400Z
CATEGORIES:Horse Alerts
DESCRIPTION:Christmas Parties At Carlisle Racecourse Handicap \(Jockey Club
  Grassroots Sprint Series Qualifier\)
DTSTART:20130828T150000
LOCATION:England
SUMMARY:Horse Racing:Christmas Parties At Carlisle Racecourse Handicap \(Jo
 ckey Club Grassroots Sprint Series Qualifier\)
END:VEVENT
END:VCALENDAR
