BEGIN:VCALENDAR
VERSION:2.0
PRODID:-//horsealert.local//NONSGML kigkonsult.se iCalcreator 2.10.5//
CALSCALE:GREGORIAN
X-WR-TIMEZONE:Europe/Dublin
BEGIN:VTIMEZONE
TZID:Etc/GMT-1
BEGIN:STANDARD
DTSTART:20010101T000000
TZOFFSETFROM:+0100
TZOFFSETTO:+0100
TZNAME:GMT +01:00
END:STANDARD
END:VTIMEZONE
BEGIN:VEVENT
UID:20260425T123854CEST-4600uCk4vD@horsealert.local
DTSTAMP:20260425T100454Z
CATEGORIES:Horse Alerts
DESCRIPTION:Roflow Ventilation For The Nation Novices\' Hurdle \(Paxtons Hu
 rdle Series Qualifier\)
DTSTART:20130827T185500
LOCATION:England
SUMMARY:Horse Racing:Roflow Ventilation For The Nation Novices\' Hurdle \(P
 axtons Hurdle Series Qualifier\)
END:VEVENT
END:VCALENDAR
