BEGIN:VCALENDAR
VERSION:2.0
PRODID:-//horsealert.local//NONSGML kigkonsult.se iCalcreator 2.10.5//
CALSCALE:GREGORIAN
X-WR-TIMEZONE:Europe/Dublin
BEGIN:VTIMEZONE
TZID:Etc/GMT-1
BEGIN:STANDARD
DTSTART:20010101T000000
TZOFFSETFROM:+0100
TZOFFSETTO:+0100
TZNAME:GMT +01:00
END:STANDARD
END:VTIMEZONE
BEGIN:VEVENT
UID:20260425T123825CEST-9522kPAnaU@horsealert.local
DTSTAMP:20260425T100425Z
CATEGORIES:Horse Alerts
DESCRIPTION:Catch Fred\'s Pushes On Betfred TV/E.B.F. Maiden Stakes \(Div 2
 \)
DTSTART:20130826T145000
LOCATION:England
SUMMARY:Horse Racing:Catch Fred\'s Pushes On Betfred TV/E.B.F. Maiden Stake
 s \(Div 2\)
END:VEVENT
END:VCALENDAR
