BEGIN:VCALENDAR
VERSION:2.0
PRODID:-//horsealert.local//NONSGML kigkonsult.se iCalcreator 2.10.5//
CALSCALE:GREGORIAN
X-WR-TIMEZONE:Europe/Dublin
BEGIN:VTIMEZONE
TZID:Etc/GMT-1
BEGIN:STANDARD
DTSTART:20010101T000000
TZOFFSETFROM:+0100
TZOFFSETTO:+0100
TZNAME:GMT +01:00
END:STANDARD
END:VTIMEZONE
BEGIN:VEVENT
UID:20260425T124134CEST-9897Od1P8B@horsealert.local
DTSTAMP:20260425T100434Z
CATEGORIES:Horse Alerts
DESCRIPTION:Download The Free Racing UK App Straight-Mile Championship Hand
 icap \(Qualifier\)
DTSTART:20130824T190000
LOCATION:England
SUMMARY:Horse Racing:Download The Free Racing UK App Straight-Mile Champion
 ship Handicap \(Qualifier\)
END:VEVENT
END:VCALENDAR
