BEGIN:VCALENDAR
VERSION:2.0
PRODID:-//horsealert.local//NONSGML kigkonsult.se iCalcreator 2.10.5//
CALSCALE:GREGORIAN
X-WR-TIMEZONE:Europe/Dublin
BEGIN:VTIMEZONE
TZID:Etc/GMT-1
BEGIN:STANDARD
DTSTART:20010101T000000
TZOFFSETFROM:+0100
TZOFFSETTO:+0100
TZNAME:GMT +01:00
END:STANDARD
END:VTIMEZONE
BEGIN:VEVENT
UID:20260425T124131CEST-9406TUNe2C@horsealert.local
DTSTAMP:20260425T100431Z
CATEGORIES:Horse Alerts
DESCRIPTION:Read Hayley Turner Every Friday racinguk.com Lady Amateur Rider
 s\' Handicap
DTSTART:20130824T173000
LOCATION:England
SUMMARY:Horse Racing:Read Hayley Turner Every Friday racinguk.com Lady Amat
 eur Riders\' Handicap
END:VEVENT
END:VCALENDAR
