BEGIN:VCALENDAR
VERSION:2.0
PRODID:-//horsealert.local//NONSGML kigkonsult.se iCalcreator 2.10.5//
CALSCALE:GREGORIAN
X-WR-TIMEZONE:Europe/Dublin
BEGIN:VTIMEZONE
TZID:Etc/GMT-1
BEGIN:STANDARD
DTSTART:20010101T000000
TZOFFSETFROM:+0100
TZOFFSETTO:+0100
TZNAME:GMT +01:00
END:STANDARD
END:VTIMEZONE
BEGIN:VEVENT
UID:20260425T124301CEST-9712PbJNvE@horsealert.local
DTSTAMP:20260425T100401Z
CATEGORIES:Horse Alerts
DESCRIPTION:Fly Aer Lingus From London Southend Airport Nursery
DTSTART:20130824T144500
LOCATION:England
SUMMARY:Horse Racing:Fly Aer Lingus From London Southend Airport Nursery
END:VEVENT
END:VCALENDAR
