BEGIN:VCALENDAR
VERSION:2.0
PRODID:-//horsealert.local//NONSGML kigkonsult.se iCalcreator 2.10.5//
CALSCALE:GREGORIAN
X-WR-TIMEZONE:Europe/Dublin
BEGIN:VTIMEZONE
TZID:Etc/GMT-1
BEGIN:STANDARD
DTSTART:20010101T000000
TZOFFSETFROM:+0100
TZOFFSETTO:+0100
TZNAME:GMT +01:00
END:STANDARD
END:VTIMEZONE
BEGIN:VEVENT
UID:20260425T123802CEST-9809EkbW7S@horsealert.local
DTSTAMP:20260425T100402Z
CATEGORIES:Horse Alerts
DESCRIPTION:Your Favourite Pool Bets At totepool.com Claiming Hurdle
DTSTART:20130822T144500
LOCATION:Wales
SUMMARY:Horse Racing:Your Favourite Pool Bets At totepool.com Claiming Hurd
 le
END:VEVENT
END:VCALENDAR
