BEGIN:VCALENDAR
VERSION:2.0
PRODID:-//horsealert.local//NONSGML kigkonsult.se iCalcreator 2.10.5//
CALSCALE:GREGORIAN
X-WR-TIMEZONE:Europe/Dublin
BEGIN:VTIMEZONE
TZID:Etc/GMT-1
BEGIN:STANDARD
DTSTART:20010101T000000
TZOFFSETFROM:+0100
TZOFFSETTO:+0100
TZNAME:GMT +01:00
END:STANDARD
END:VTIMEZONE
BEGIN:VEVENT
UID:20260425T124136CEST-691955phMB@horsealert.local
DTSTAMP:20260425T100436Z
CATEGORIES:Horse Alerts
DESCRIPTION:\'Breeders Backing Racing\' E.B.F. Galtres Stakes \(Fillies\' L
 isted\)
DTSTART:20130822T162000
LOCATION:England
SUMMARY:Horse Racing:\'Breeders Backing Racing\' E.B.F. Galtres Stakes \(Fi
 llies\' Listed\)
END:VEVENT
END:VCALENDAR
