BEGIN:VCALENDAR
VERSION:2.0
PRODID:-//horsealert.local//NONSGML kigkonsult.se iCalcreator 2.10.5//
CALSCALE:GREGORIAN
X-WR-TIMEZONE:Europe/Dublin
BEGIN:VTIMEZONE
TZID:Etc/GMT-1
BEGIN:STANDARD
DTSTART:20010101T000000
TZOFFSETFROM:+0100
TZOFFSETTO:+0100
TZNAME:GMT +01:00
END:STANDARD
END:VTIMEZONE
BEGIN:VEVENT
UID:20260425T124258CEST-1400t7md4M@horsealert.local
DTSTAMP:20260425T100458Z
CATEGORIES:Horse Alerts
DESCRIPTION:TDC Waste Management Handicap \(Qualifier For The 15\,000 Betfa
 ir Scottish Mile Series Final\)
DTSTART:20130821T141000
LOCATION:Scotland
SUMMARY:Horse Racing:TDC Waste Management Handicap \(Qualifier For The 15\,
 000 Betfair Scottish Mile Series Final\)
END:VEVENT
END:VCALENDAR
