BEGIN:VCALENDAR
VERSION:2.0
PRODID:-//horsealert.local//NONSGML kigkonsult.se iCalcreator 2.10.5//
CALSCALE:GREGORIAN
X-WR-TIMEZONE:Europe/Dublin
BEGIN:VTIMEZONE
TZID:Etc/GMT-1
BEGIN:STANDARD
DTSTART:20010101T000000
TZOFFSETFROM:+0100
TZOFFSETTO:+0100
TZNAME:GMT +01:00
END:STANDARD
END:VTIMEZONE
BEGIN:VEVENT
UID:20260425T124124CEST-01163jdvDD@horsealert.local
DTSTAMP:20260425T100424Z
CATEGORIES:Horse Alerts
DESCRIPTION:arenaracingcompany.co.uk Apprentice Training Series Handicap \(
 Str\)
DTSTART:20130820T170500
LOCATION:England
SUMMARY:Horse Racing:arenaracingcompany.co.uk Apprentice Training Series Ha
 ndicap \(Str\)
END:VEVENT
END:VCALENDAR
