BEGIN:VCALENDAR
VERSION:2.0
PRODID:-//horsealert.local//NONSGML kigkonsult.se iCalcreator 2.10.5//
CALSCALE:GREGORIAN
X-WR-TIMEZONE:Europe/Dublin
BEGIN:VTIMEZONE
TZID:Etc/GMT-1
BEGIN:STANDARD
DTSTART:20010101T000000
TZOFFSETFROM:+0100
TZOFFSETTO:+0100
TZNAME:GMT +01:00
END:STANDARD
END:VTIMEZONE
BEGIN:VEVENT
UID:20260425T124225CEST-6237cZEkv1@horsealert.local
DTSTAMP:20260425T100425Z
CATEGORIES:Horse Alerts
DESCRIPTION:Online Discounted Tickets At greatyarmouth-racecourse.co.uk Han
 dicap
DTSTART:20130820T160000
LOCATION:England
SUMMARY:Horse Racing:Online Discounted Tickets At greatyarmouth-racecourse.
 co.uk Handicap
END:VEVENT
END:VCALENDAR
